BEGIN:VCALENDAR
VERSION:2.0
PRODID:-//Library Market//iCal Export//EN
BEGIN:VEVENT
SUMMARY:Intro to Innovation Lab OR One-on-One Tech Help
UID:20649
DTSTAMP:20260421T052900Z
DTSTART:20260507T130000Z
DTEND:20260507T140000Z
LOCATION:671 Main Street, Kingston NS B0P 1R0, Canada
ROOM: Kingston Innovation Lab
DESCRIPTION:Welcome to the Kingston Innovation Lab!Sign up for a one-hour 
 session, and explore our exciting tools and technologies including a 3D Sc
 anner and Printer, Cricut Maker, sewing machines, and more!Our instructor 
 will walk you through the basics on the equipment of your choice. Once we 
 have determined that you are comfortable to go it alone, you&#039;ll be ab
 le to book the lab whenever the library is open and use the equipment unsu
 pervised.This session can also be booked for one-on-one tech assistance wi
 th our digital literacy instructor.When you register, please help us prepa
 re for your visit by letting us know what you would like to cover in this 
 session.For adults 18+ or youth with an adult present.Please stay home and
  rebook your appointment if you are sick.
URL:https://annapolisvalley.librarycalendar.com/event/intro-innovation-lab
 -or-one-one-tech-help-20649
END:VEVENT
END:VCALENDAR
